BEGIN:VCALENDAR
VERSION:2.0
PRODID:-//Ajuntament de Corçà - ECPv6.15.20//NONSGML v1.0//EN
CALSCALE:GREGORIAN
METHOD:PUBLISH
X-WR-CALNAME:Ajuntament de Corçà
X-ORIGINAL-URL:https://corca.cat
X-WR-CALDESC:Esdeveniments per Ajuntament de Corçà
REFRESH-INTERVAL;VALUE=DURATION:PT1H
X-Robots-Tag:noindex
X-PUBLISHED-TTL:PT1H
BEGIN:VTIMEZONE
TZID:UTC
BEGIN:STANDARD
TZOFFSETFROM:+0000
TZOFFSETTO:+0000
TZNAME:UTC
DTSTART:20210101T000000
END:STANDARD
END:VTIMEZONE
BEGIN:VEVENT
DTSTART;VALUE=DATE:20220607
DTEND;VALUE=DATE:20220618
DTSTAMP:20260422T130026
CREATED:20220605T060801Z
LAST-MODIFIED:20220605T060801Z
UID:8337-1654560000-1655510399@corca.cat
SUMMARY:Matriculació Llar d'infants La Bòbila
DESCRIPTION:Del 7 al 17 de juny es podrà dur a terme el procés de matriculació a la Llar d’Infants La Bòbila de Corçà. \nInformació:\nPunt de Trobada\nde 10:30 h a 13:30 h\n972 630 072 \n 
URL:https://corca.cat/activitats/matriculacio-llar-dinfants-la-bobila/
ATTACH;FMTTYPE=image/jpeg:https://corca.cat/wp-content/uploads/2022/06/Cartell-1-scaled.jpg
END:VEVENT
BEGIN:VEVENT
DTSTART;TZID=UTC:20220612T090000
DTEND;TZID=UTC:20220612T090000
DTSTAMP:20260422T130026
CREATED:20220605T064239Z
LAST-MODIFIED:20220605T064631Z
UID:8352-1655024400-1655024400@corca.cat
SUMMARY:Corpus a Casavells
DESCRIPTION:Horaris: \n9:00 h. creació de les catifes\n12:30 h\, missa\n13:15 h\, processó de corpus i pica pica \nUs hi esperem!!!
URL:https://corca.cat/activitats/corpus-casavells-2022/
ATTACH;FMTTYPE=image/jpeg:https://corca.cat/wp-content/uploads/2022/06/CorpusCasavells.jpeg
END:VEVENT
BEGIN:VEVENT
DTSTART;TZID=UTC:20220612T180000
DTEND;TZID=UTC:20220612T180000
DTSTAMP:20260422T130026
CREATED:20220605T065420Z
LAST-MODIFIED:20220605T065420Z
UID:8356-1655056800-1655056800@corca.cat
SUMMARY:Festival de patinatge
DESCRIPTION:Un any més\, el Club Patí us convida al Festival de Patinatge de Corçà. \nDiumenge 12 de juny\, a les sis de la tarda\, a la Sala Municipal. \nAtenció\, gran sorteig!
URL:https://corca.cat/activitats/festival-patinatge-corca/
ATTACH;FMTTYPE=image/jpeg:https://corca.cat/wp-content/uploads/2022/06/FestivalPatinatge2022-e1654419200269.jpeg
END:VEVENT
END:VCALENDAR