BEGIN:VCALENDAR
VERSION:2.0
PRODID:-//Ajuntament de Corçà - ECPv6.15.20//NONSGML v1.0//EN
CALSCALE:GREGORIAN
METHOD:PUBLISH
X-WR-CALNAME:Ajuntament de Corçà
X-ORIGINAL-URL:https://corca.cat
X-WR-CALDESC:Esdeveniments per Ajuntament de Corçà
REFRESH-INTERVAL;VALUE=DURATION:PT1H
X-Robots-Tag:noindex
X-PUBLISHED-TTL:PT1H
BEGIN:VTIMEZONE
TZID:Europe/Helsinki
BEGIN:DAYLIGHT
TZOFFSETFROM:+0200
TZOFFSETTO:+0300
TZNAME:EEST
DTSTART:20250330T010000
END:DAYLIGHT
BEGIN:STANDARD
TZOFFSETFROM:+0300
TZOFFSETTO:+0200
TZNAME:EET
DTSTART:20251026T010000
END:STANDARD
BEGIN:DAYLIGHT
TZOFFSETFROM:+0200
TZOFFSETTO:+0300
TZNAME:EEST
DTSTART:20260329T010000
END:DAYLIGHT
BEGIN:STANDARD
TZOFFSETFROM:+0300
TZOFFSETTO:+0200
TZNAME:EET
DTSTART:20261025T010000
END:STANDARD
BEGIN:DAYLIGHT
TZOFFSETFROM:+0200
TZOFFSETTO:+0300
TZNAME:EEST
DTSTART:20270328T010000
END:DAYLIGHT
BEGIN:STANDARD
TZOFFSETFROM:+0300
TZOFFSETTO:+0200
TZNAME:EET
DTSTART:20271031T010000
END:STANDARD
END:VTIMEZONE
BEGIN:VEVENT
DTSTART;VALUE=DATE:20260423
DTEND;VALUE=DATE:20260424
DTSTAMP:20260423T130513
CREATED:20260323T164113Z
LAST-MODIFIED:20260323T164113Z
UID:14172-1776902400-1776988799@corca.cat
SUMMARY:Sant Jordi 2026
DESCRIPTION:Matí i tarda | Parada de venda de roses i llibres \nde 9:30 a 11 h | Ruta literària a càrrec de l’Escola El Rodonell
URL:https://corca.cat/activitats/sant-jordi-2026/
LOCATION:Corça
ATTACH;FMTTYPE=image/png:https://corca.cat/wp-content/uploads/2022/03/no-imatge-noticies.png
END:VEVENT
END:VCALENDAR